BEGIN:VCALENDAR
VERSION:2.0
PRODID:-//eventon.com NONSGML v1.0//EN
CALSCALE:GREGORIAN
METHOD:PUBLISH
BEGIN:VEVENT
UID:69ea263fb5e08
DTSTAMP:20260423T140135Z
DTSTART:20220316T220000Z
DTEND:20220317T010000Z
LOCATION:
SUMMARY:Einkatími
DESCRIPTION:Einkatími\nhttps://borgfirdingur.is/events/einkatimi-5/
URL:https://borgfirdingur.is/events/einkatimi-5/
END:VEVENT
END:VCALENDAR