BEGIN:VCALENDAR
VERSION:2.0
PRODID:-//eventon.com NONSGML v1.0//EN
CALSCALE:GREGORIAN
METHOD:PUBLISH
BEGIN:VEVENT
UID:69e9f415b0e86
DTSTAMP:20260423T102733Z
DTSTART:20220318T230000Z
DTEND:20220319T020000Z
LOCATION:
SUMMARY:Æfing
DESCRIPTION:Æfing\nhttps://borgfirdingur.is/events/aefing-14/
URL:https://borgfirdingur.is/events/aefing-14/
END:VEVENT
END:VCALENDAR