BEGIN:VCALENDAR
VERSION:2.0
PRODID:-//eventon.com NONSGML v1.0//EN
CALSCALE:GREGORIAN
METHOD:PUBLISH
BEGIN:VEVENT
UID:69ea2e73ad7ca
DTSTAMP:20260423T143635Z
DTSTART:20220322T210000Z
DTEND:20220322T230000Z
LOCATION:
SUMMARY:Æfing
DESCRIPTION:Æfing\nhttps://borgfirdingur.is/events/aefing-15/
URL:https://borgfirdingur.is/events/aefing-15/
END:VEVENT
END:VCALENDAR