BEGIN:VCALENDAR
VERSION:2.0
PRODID:-//eventon.com NONSGML v1.0//EN
CALSCALE:GREGORIAN
METHOD:PUBLISH
BEGIN:VEVENT
UID:69eaa75d00b77
DTSTAMP:20260423T231229Z
DTSTART:20220414T050000Z
DTEND:20220414T050000Z
LOCATION:
SUMMARY:Námskeið 50+
DESCRIPTION:Námskeið\nhttps://borgfirdingur.is/events/namskeid-50-12/
URL:https://borgfirdingur.is/events/namskeid-50-12/
END:VEVENT
END:VCALENDAR