BEGIN:VCALENDAR
VERSION:2.0
PRODID:-//eventon.com NONSGML v1.0//EN
CALSCALE:GREGORIAN
METHOD:PUBLISH
BEGIN:VEVENT
UID:69ea8a1e1cdfa
DTSTAMP:20260423T210742Z
DTSTART:20220425T210000Z
DTEND:20220426T000000Z
LOCATION:
SUMMARY:Æfing vesturlandsdeild
DESCRIPTION:.\nhttps://borgfirdingur.is/events/aefing-vesturlandsdeild-2/
URL:https://borgfirdingur.is/events/aefing-vesturlandsdeild-2/
END:VEVENT
END:VCALENDAR