BEGIN:VCALENDAR
VERSION:2.0
PRODID:-//eventon.com NONSGML v1.0//EN
CALSCALE:GREGORIAN
METHOD:PUBLISH
BEGIN:VEVENT
UID:69ea7495d22a4
DTSTAMP:20260423T193549Z
DTSTART:20220426T230000Z
DTEND:20220427T020000Z
LOCATION:
SUMMARY:Æfing vesturlandsdeild
DESCRIPTION:Æfing vesturlandsdeild\nhttps://borgfirdingur.is/events/aefing
 -vesturlandsdeild-3/
URL:https://borgfirdingur.is/events/aefing-vesturlandsdeild-3/
END:VEVENT
END:VCALENDAR