BEGIN:VCALENDAR
VERSION:2.0
PRODID:-//eventon.com NONSGML v1.0//EN
CALSCALE:GREGORIAN
METHOD:PUBLISH
BEGIN:VEVENT
UID:69e76f24ec619
DTSTAMP:20260421T123548Z
DTSTART:20220428T070000Z
DTEND:20220428T090000Z
LOCATION:
SUMMARY:Æfing vesturlandsdeild
DESCRIPTION:Æfing vesturlandsdeild\nhttps://borgfirdingur.is/events/aefing
 -vesturlandsdeild-4/
URL:https://borgfirdingur.is/events/aefing-vesturlandsdeild-4/
END:VEVENT
END:VCALENDAR