BEGIN:VCALENDAR
VERSION:2.0
PRODID:-//eventon.com NONSGML v1.0//EN
CALSCALE:GREGORIAN
METHOD:PUBLISH
BEGIN:VEVENT
UID:69e9de0ce6885
DTSTAMP:20260423T085332Z
DTSTART:20230304T183300Z
DTEND:20230305T053300Z
LOCATION:
SUMMARY:KB Mót Tölt
DESCRIPTION:KB Mót Tölt\nhttps://borgfirdingur.is/events/kb-mot-tolt/
URL:https://borgfirdingur.is/events/kb-mot-tolt/
END:VEVENT
END:VCALENDAR