BEGIN:VCALENDAR
VERSION:2.0
PRODID:-//eventon.com NONSGML v1.0//EN
CALSCALE:GREGORIAN
METHOD:PUBLISH
BEGIN:VEVENT
UID:69e9dcac489eb
DTSTAMP:20260423T084740Z
DTSTART:20240222T030000Z
DTEND:20240222T050000Z
LOCATION:
SUMMARY:Reiðnámskeið með Denise
DESCRIPTION:Reiðnámskeið með Denise\nhttps://borgfirdingur.is/events/re
 idnamskeid-med-denise-3/
URL:https://borgfirdingur.is/events/reidnamskeid-med-denise-3/
END:VEVENT
END:VCALENDAR