BEGIN:VCALENDAR
VERSION:2.0
PRODID:-//eventon.com NONSGML v1.0//EN
CALSCALE:GREGORIAN
METHOD:PUBLISH
BEGIN:VEVENT
UID:69e7977c85572
DTSTAMP:20260421T152756Z
DTSTART:20240207T220000Z
DTEND:20240207T230000Z
LOCATION:
SUMMARY:Æfingartími f/vesturlandsdeild
DESCRIPTION:Æfingartími f/vesturlandsdeild\nhttps://borgfirdingur.is/even
 ts/aefingartimi-f-vesturlandsdeild-2/
URL:https://borgfirdingur.is/events/aefingartimi-f-vesturlandsdeild-2/
END:VEVENT
END:VCALENDAR