BEGIN:VCALENDAR
VERSION:2.0
PRODID:-//eventon.com NONSGML v1.0//EN
CALSCALE:GREGORIAN
METHOD:PUBLISH
BEGIN:VEVENT
UID:69e7ad46b81f7
DTSTAMP:20260421T170054Z
DTSTART:20240209T050000Z
DTEND:20240209T090000Z
LOCATION:
SUMMARY:Einkatími Snæfellingur
DESCRIPTION:Einkatími Snæfellingur\nhttps://borgfirdingur.is/events/einka
 timi-snaefellingur/
URL:https://borgfirdingur.is/events/einkatimi-snaefellingur/
END:VEVENT
END:VCALENDAR