BEGIN:VCALENDAR
VERSION:2.0
PRODID:-//eventon.com NONSGML v1.0//EN
CALSCALE:GREGORIAN
METHOD:PUBLISH
BEGIN:VEVENT
UID:69e8041edf8b6
DTSTAMP:20260421T231126Z
DTSTART:20240308T070000Z
DTEND:20240308T080000Z
LOCATION:
SUMMARY:Æfing f/vesturlandsdeild
DESCRIPTION:Æfing f/vesturlandsdeild\nhttps://borgfirdingur.is/events/aefi
 ng-f-vesturlandsdeild/
URL:https://borgfirdingur.is/events/aefing-f-vesturlandsdeild/
END:VEVENT
END:VCALENDAR