BEGIN:VCALENDAR
VERSION:2.0
PRODID:-//eventon.com NONSGML v1.0//EN
CALSCALE:GREGORIAN
METHOD:PUBLISH
BEGIN:VEVENT
UID:69e765e3a360e
DTSTAMP:20260421T115619Z
DTSTART:20240306T040000Z
DTEND:20240306T050000Z
LOCATION:
SUMMARY:Einkatími
DESCRIPTION:Einkatími\nhttps://borgfirdingur.is/events/einkatimi-16/
URL:https://borgfirdingur.is/events/einkatimi-16/
END:VEVENT
END:VCALENDAR