BEGIN:VCALENDAR
VERSION:2.0
PRODID:-//eventon.com NONSGML v1.0//EN
CALSCALE:GREGORIAN
METHOD:PUBLISH
BEGIN:VEVENT
UID:69e778fac1c0a
DTSTAMP:20260421T131746Z
DTSTART:20240307T220000Z
DTEND:20240307T230000Z
LOCATION:
SUMMARY:Æfing f/vesturlandsdeild
DESCRIPTION:Æfing f/vesturlandsdeild\nhttps://borgfirdingur.is/events/aefi
 ng-f-vesturlandsdeild-2/
URL:https://borgfirdingur.is/events/aefing-f-vesturlandsdeild-2/
END:VEVENT
END:VCALENDAR