BEGIN:VCALENDAR
VERSION:2.0
PRODID:-//eventon.com NONSGML v1.0//EN
CALSCALE:GREGORIAN
METHOD:PUBLISH
BEGIN:VEVENT
UID:69e793f993525
DTSTAMP:20260421T151257Z
DTSTART:20240306T070000Z
DTEND:20240306T080000Z
LOCATION:
SUMMARY:Lokað
DESCRIPTION:Lokað\nhttps://borgfirdingur.is/events/lokad-3/
URL:https://borgfirdingur.is/events/lokad-3/
END:VEVENT
END:VCALENDAR