BEGIN:VCALENDAR
VERSION:2.0
PRODID:-//eventon.com NONSGML v1.0//EN
CALSCALE:GREGORIAN
METHOD:PUBLISH
BEGIN:VEVENT
UID:69e9dc7418e00
DTSTAMP:20260423T084644Z
DTSTART:20250308T110000Z
DTEND:20250308T140000Z
LOCATION:
SUMMARY:Æskulýðsnefnd\,  barnastarf
DESCRIPTION:Helga Rósa\nhttps://borgfirdingur.is/events/aeskulidsnefnd-bar
 nastarf-2/
URL:https://borgfirdingur.is/events/aeskulidsnefnd-barnastarf-2/
END:VEVENT
END:VCALENDAR