BEGIN:VCALENDAR
VERSION:2.0
PRODID:-//eventon.com NONSGML v1.0//EN
CALSCALE:GREGORIAN
METHOD:PUBLISH
BEGIN:VEVENT
UID:69ecc99cf315f
DTSTAMP:20260425T140308Z
DTSTART:20260214
DTEND:20260215
LOCATION:
SUMMARY:KB Mótaröð
DESCRIPTION:KB Mótaröð &#8211; Fjórgangur\nhttps://borgfirdingur.is/eve
 nts/kb-motarod/
URL:https://borgfirdingur.is/events/kb-motarod/
END:VEVENT
END:VCALENDAR