BEGIN:VCALENDAR
VERSION:2.0
PRODID:-//eventon.com NONSGML v1.0//EN
CALSCALE:GREGORIAN
METHOD:PUBLISH
BEGIN:VEVENT
UID:69eca44a4f5ec
DTSTAMP:20260425T112354Z
DTSTART:20260307
DTEND:20260308
LOCATION:
SUMMARY:KB Mótaröð
DESCRIPTION:KB Mótaröð &#8211; Gæðingamót\nhttps://borgfirdingur.is/e
 vents/kb-motarod-2/
URL:https://borgfirdingur.is/events/kb-motarod-2/
END:VEVENT
END:VCALENDAR