BEGIN:VCALENDAR
VERSION:2.0
PRODID:-//eventon.com NONSGML v1.0//EN
CALSCALE:GREGORIAN
METHOD:PUBLISH
BEGIN:VEVENT
UID:69ea8796b2318
DTSTAMP:20260423T205654Z
DTSTART:20260328
DTEND:20260329
LOCATION:
SUMMARY:Kvennatölt Borgfirðings
DESCRIPTION:Kvennatölt Borgfirðings &#8211; Gæðinga\nhttps://borgfirdin
 gur.is/events/kvennatolt-borgfirdings-3/
URL:https://borgfirdingur.is/events/kvennatolt-borgfirdings-3/
END:VEVENT
END:VCALENDAR