BEGIN:VCALENDAR
VERSION:2.0
PRODID:-//eventon.com NONSGML v1.0//EN
CALSCALE:GREGORIAN
METHOD:PUBLISH
BEGIN:VEVENT
UID:69ea70ce1a54d
DTSTAMP:20260423T191942Z
DTSTART:20260425
DTEND:20260426
LOCATION:
SUMMARY:Karlatölt Borgfirðings
DESCRIPTION:Karlatölt Borgfirðings &#8211; Gæðinga\nhttps://borgfirding
 ur.is/events/karlatolt-borgfirdings/
URL:https://borgfirdingur.is/events/karlatolt-borgfirdings/
END:VEVENT
END:VCALENDAR