BEGIN:VCALENDAR
VERSION:2.0
PRODID:-//eventon.com NONSGML v1.0//EN
CALSCALE:GREGORIAN
METHOD:PUBLISH
BEGIN:VEVENT
UID:69ea73e0e464e
DTSTAMP:20260423T193248Z
DTSTART:20260509
DTEND:20260510
LOCATION:
SUMMARY:Íþróttamót Borgfirðings
DESCRIPTION:Íþróttamót Borgfirðings\nhttps://borgfirdingur.is/events/i
 throttamot-borgfirdings-3/
URL:https://borgfirdingur.is/events/ithrottamot-borgfirdings-3/
END:VEVENT
END:VCALENDAR