BEGIN:VCALENDAR
VERSION:2.0
PRODID:-//eventon.com NONSGML v1.0//EN
CALSCALE:GREGORIAN
METHOD:PUBLISH
BEGIN:VEVENT
UID:69ea70f73f1f4
DTSTAMP:20260423T192023Z
DTSTART:20260530
DTEND:20260531
LOCATION:
SUMMARY:Gæðingamót Borgfirðings
DESCRIPTION:Gæðingamót Borgfirðings\nhttps://borgfirdingur.is/events/ga
 edingamot-borgfirdings-2/
URL:https://borgfirdingur.is/events/gaedingamot-borgfirdings-2/
END:VEVENT
END:VCALENDAR