BEGIN:VCALENDAR
VERSION:2.0
PRODID:-//eventon.com NONSGML v1.0//EN
CALSCALE:GREGORIAN
METHOD:PUBLISH
BEGIN:VEVENT
UID:69ea86192f974
DTSTAMP:20260423T205033Z
DTSTART:20260324T150000Z
DTEND:20260324T230000Z
LOCATION:
SUMMARY:Vesturlandsdeild F1
DESCRIPTION:Fimmgangur Vesturlandsdeildar í hestaíþróttum\nhttps://borg
 firdingur.is/events/vesturlandsdeild-f1/
URL:https://borgfirdingur.is/events/vesturlandsdeild-f1/
END:VEVENT
END:VCALENDAR