BEGIN:VCALENDAR
VERSION:2.0
PRODID:-//eventon.com NONSGML v1.0//EN
CALSCALE:GREGORIAN
METHOD:PUBLISH
BEGIN:VEVENT
UID:69ea75742a808
DTSTAMP:20260423T193932Z
DTSTART:20260414T150000Z
DTEND:20260414T230000Z
LOCATION:
SUMMARY:Vesturlandsdeild - T1 og skeið
DESCRIPTION:Vesturlandsdeildin &#8211; keppni í T1 og skeiði í gegn um h
 öllina\nhttps://borgfirdingur.is/events/veturlandsdeild-t1-og-skeid/
URL:https://borgfirdingur.is/events/veturlandsdeild-t1-og-skeid/
END:VEVENT
END:VCALENDAR