BEGIN:VCALENDAR
VERSION:2.0
PRODID:-//eventon.com NONSGML v1.0//EN
CALSCALE:GREGORIAN
METHOD:PUBLISH
BEGIN:VEVENT
UID:69eaa2469a791
DTSTAMP:20260423T225046Z
DTSTART:20260109T203000Z
DTEND:20260109T220000Z
LOCATION:
SUMMARY:Reiðhöllin er lokuð vegna vökvunar vallar 20:30-22:00
DESCRIPTION:Reiðhöllin er lokuð vegna vökvunar vallar 20:30-22:00\nhttp
 s://borgfirdingur.is/events/reidhollin-er-lokud-vegna-vokvunar-vallar-2030-
 2200-2/
URL:https://borgfirdingur.is/events/reidhollin-er-lokud-vegna-vokvunar-vallar-2030-2200-2/
END:VEVENT
END:VCALENDAR